BEGIN:VCALENDAR
VERSION:2.0
PRODID:Imitheme.com 
BEGIN:VEVENT
UID:20260421T075859699582549
DTSTAMP;TZID=UTC:2026-04-21 07:58:59
DTSTART;TZID=America/Los_Angeles:20260421T075859
DTEND;TZID=America/Los_Angeles:20260421T075859
SUMMARY:Maestro's Corner  Variety Show
LOCATION:
DESCRIPTION:Donate
URL:https://araborchestra.org/eventer/maestros-corner-variety-show-2/
END:VEVENT
END:VCALENDAR
